BEGIN:VCALENDAR
VERSION:2.0
PRODID:-//eventon.com NONSGML v1.0//EN
CALSCALE:GREGORIAN
METHOD:PUBLISH
BEGIN:VEVENT
UID:69e9fbd7366fe
DTSTAMP:20260423T130039
DTSTART:20260829T150000Z
DTEND:20260901T133000Z
TZID:Europe/Vienna
LOCATION:
SUMMARY:[:de]Entschleunigungs-Retreat mit Yoga Elementen im Weinviertel 2026 – Gelassenheit trifft Genuss 🧘‍♀️🍷[:en]Yoga Retreat in the Weinviertel 2026 – Balance meets indulgence 🧘‍♀️🍷[:cs]Jógové retreaty ve Weinviertelu 2026 – Klid a požitek v harmonii 🧘‍♀️🍷[:]
DESCRIPTION:📍 Poysdorf\,  Weingenuss.Chalet\,  Hotel Neustifter &amp; Kellergstetten 📅 Termíny 2026: • 13. – 16. června 2026 • 4. – 7. července 2026 • 29. srpna – 1. září 2026 &nbsp; Namasté &amp; Na zdraví! Toužíš po hluboké relaxaci s nádechem vůně meruněk a sklenkou vína v ruce? Pak je tento[..]\nhttps://www.anno1555.com/cs/blog/events/yoga-retreats-im-weinviertel-2026-gelassenheit-trifft-genuss-%f0%9f%a7%98%e2%99%80%ef%b8%8f%f0%9f%8d%b7-copy-copy/
URL:https://www.anno1555.com/cs/blog/events/yoga-retreats-im-weinviertel-2026-gelassenheit-trifft-genuss-%f0%9f%a7%98%e2%99%80%ef%b8%8f%f0%9f%8d%b7-copy-copy/
END:VEVENT
END:VCALENDAR