BEGIN:VCALENDAR
VERSION:2.0
PRODID:-//eventon.com NONSGML v1.0//EN
CALSCALE:GREGORIAN
METHOD:PUBLISH
BEGIN:VEVENT
UID:69e9fbd8b0483
DTSTAMP:20260423T130040
DTSTART:20260619T190000Z
DTEND:20260620T015900Z
TZID:Europe/Vienna
LOCATION:
SUMMARY:[:de]Sommerkonzert der Weinviertler Philharmoniker 🎶🎻[:en]Summer Concert by the Weinviertler Philharmoniker 🎶🎻[:cs]Letní koncert Weinviertler Philharmoniker 🎶🎻[:]
DESCRIPTION:📍 Reichensteinhof Poysdorf 📅 Pátek 19. června 2026 ⏰ Začátek: 19:30 Hudební letní večer ve vinařském městě Poysdorf! 🌟 Weinviertler Philharmoniker pod vedením Rolanda Bentze vás zvou na různorodý koncert s valčíky\,  polkami\,  tangy a evergreeny – oblíbenou tradici\,  která přitahuje milovníky hudby každý rok. Užijte si dokonalou kombinaci hudby[..]\nhttps://www.anno1555.com/cs/blog/events/sommerkonzert-der-weinviertler-philharmoniker-%f0%9f%8e%b6%f0%9f%8e%bb/
URL:https://www.anno1555.com/cs/blog/events/sommerkonzert-der-weinviertler-philharmoniker-%f0%9f%8e%b6%f0%9f%8e%bb/
END:VEVENT
END:VCALENDAR