BEGIN:VCALENDAR
VERSION:2.0
PRODID:-//eventon.com NONSGML v1.0//EN
CALSCALE:GREGORIAN
METHOD:PUBLISH
BEGIN:VEVENT
UID:69e9fbda34de4
DTSTAMP:20260423T130042
DTSTART:20260620T180000Z
DTEND:20260620T235900Z
TZID:UTC
LOCATION:
SUMMARY:[:de]🍖 Ripperl & Sprudel-Wein 🥂[:en]🍖 Ribs & Sparkling Wines 🥂[:cs]🍖 Žebírka & šumivá vína ve vinařství 🥂[:]
DESCRIPTION:📍 Weingut Hauser\,  Brunngasse 38\,  2170 Poysdorf 📅 Sobota 20. června 2026 ⏰ Začátek: 18:00 &nbsp; Křupavá žebírka se potkávají s perlícím Poy-Seccem a dalšími šumivými víny! Během tohoto večera ve vinařství spojujeme to nejlepší z kuchyně a sklepa: jemná\,  domácí a dochucená žebírka servírovaná v uvolněné atmosféře – k[..]\nhttps://www.anno1555.com/cs/blog/events/ripperl-und-sprudel-wein/
URL:https://www.anno1555.com/cs/blog/events/ripperl-und-sprudel-wein/
END:VEVENT
END:VCALENDAR