BEGIN:VCALENDAR
VERSION:2.0
PRODID:-//eventon.com NONSGML v1.0//EN
CALSCALE:GREGORIAN
METHOD:PUBLISH
BEGIN:VEVENT
UID:69e9fbdd88159
DTSTAMP:20260423T130045
DTSTART:20261024T180000Z
DTEND:20261024T235900Z
TZID:UTC
LOCATION:
SUMMARY:[:de]🐷 Kistensau & Staubiger 🍇[:en]🐷 Kistensau & Staubiger 🍇 – Rustic Pork Feast at the Winery[:cs]🐷 Kistensau & Staubiger 🍇 – Vepřové hody ve vinařství[:]
DESCRIPTION:📍 Weingut Hauser\,  Brunngasse 38\,  2170 Poysdorf 📅 Pátek 24. října 2026 ⏰ Začátek: 18:00 Jednoduché\,  poctivé\,  lahodné: Na našem legendárním večeru s „Kistensau“ se peče přímo ve vinařství! Těšit se můžeš na šťavnaté vepřové maso z pece – plné chuti\,  s křupavou kůrčičkou a s dávkou pohostinnosti typické pro[..]\nhttps://www.anno1555.com/cs/blog/events/kistensau-und-staubiger/
URL:https://www.anno1555.com/cs/blog/events/kistensau-und-staubiger/
END:VEVENT
END:VCALENDAR