BEGIN:VCALENDAR
VERSION:2.0
PRODID:-//eventon.com NONSGML v1.0//EN
CALSCALE:GREGORIAN
METHOD:PUBLISH
BEGIN:VEVENT
UID:69e9fbd82ae36
DTSTAMP:20260423T130040
DTSTART:20260515T170000Z
DTEND:20260515T235900Z
TZID:UTC
LOCATION:
SUMMARY:[:de]🌙 Lange Nacht der Kellergasse Poysdorf 🍷✨[:en]🇬🇧 Long Night of the Cellar Lane Poysdorf 🌙🍷✨[:cs]🇨🇿 Dlouhá noc sklepní uličky v Poysdorfu 🌙🍷✨[:]
DESCRIPTION:📍 Sklepní ulička Radyweg\,  2170 Poysdorf 📅 Pátek 15. května 2026 ⏰ Začátek: 17:00 Dlouhá noc sklepní uličky vás zve na výjimečný večer plný vína\,  atmosféry a regionálních specialit. Mnoho tradičních sklepů otevře své dveře a nabídne široký výběr vín\,  místních pochoutek a řemeslných výrobků. Těšit se můžete na živou[..]\nhttps://www.anno1555.com/cs/blog/events/%f0%9f%8c%99-lange-nacht-der-kellergasse-poysdorf-%f0%9f%8d%b7%e2%9c%a8/
URL:https://www.anno1555.com/cs/blog/events/%f0%9f%8c%99-lange-nacht-der-kellergasse-poysdorf-%f0%9f%8d%b7%e2%9c%a8/
END:VEVENT
END:VCALENDAR