BEGIN:VCALENDAR
VERSION:2.0
PRODID:-//eventon.com NONSGML v1.0//EN
CALSCALE:GREGORIAN
METHOD:PUBLISH
BEGIN:VEVENT
UID:69e9fc033d1c3
DTSTAMP:20260423T130123
DTSTART:20260613T150000Z
DTEND:20260613T190000Z
TZID:UTC
LOCATION:
SUMMARY:[:de]🧘‍♀️ Entschleunigung mit Yoga & Kellergasse 🍇[:en]🇬🇧 Slow Down: Yoga & Cellar Lane Experience 🧘‍♀️🍇[:cs]🇨🇿 Zpomal a nadechni se: jóga & sklepní ulička 🧘‍♀️🍇[:]
DESCRIPTION:📍 Začátek: Hotel Neustifter\,  Poysdorf 📅 Termíny 2026: • Sobota 13. června 2026 • Sobota 29. srpna 2026 ⏰ 15:00 – 19:00 Přijeď\,  nadechni se a zpomal: toto výjimečné odpoledne spojuje jógu v přírodě s příjemnou procházkou sklepní uličkouv Poysdorfu. Začneme 90minutovou lekcí jógy\,  která harmonizuje tělo i mysl. Poté[..]\nhttps://www.anno1555.com/cs/blog/events/%f0%9f%a7%98%e2%99%80%ef%b8%8f-entschleunigung-mit-yoga-kellergasse-%f0%9f%8d%87/
URL:https://www.anno1555.com/cs/blog/events/%f0%9f%a7%98%e2%99%80%ef%b8%8f-entschleunigung-mit-yoga-kellergasse-%f0%9f%8d%87/
END:VEVENT
END:VCALENDAR