BEGIN:VCALENDAR
VERSION:2.0
PRODID:-//eventon.com NONSGML v1.0//EN
CALSCALE:GREGORIAN
METHOD:PUBLISH
BEGIN:VEVENT
UID:69e9fbd24539e
DTSTAMP:20260423T130034
DTSTART:20260615T041500Z
DTEND:20260615T073000Z
TZID:UTC
LOCATION:
SUMMARY:[:de]🌄 Entschleunigung mit Yoga & Morgenlicht 🧘‍♀️🍇[:en]🇬🇧 Slow Down with Yoga & Morning Light 🌄🧘‍♀️🍇[:cs]🇨🇿 Zpomal s jógou a ranním světlem 🌄🧘‍♀️🍇[:]
DESCRIPTION:📍 Začátek: Hotel Neustifter\,  Poysdorf 📅 Termíny 2026: • Pondělí 15. června 2026 • Pondělí 31. srpna 2026 ⏰ Začátek při východu slunce • 15.06.2026 – cca 4:15 – 7:30 (východ slunce 4:50) • 31.08.2026 – cca 5:30 – 8:45 (východ slunce 6:09) Zažij kouzlo brzkého rána ve Weinviertelu: ještě[..]\nhttps://www.anno1555.com/cs/blog/events/%f0%9f%8c%84-entschleunigung-mit-yoga-morgenlicht-%f0%9f%a7%98%e2%99%80%ef%b8%8f%f0%9f%8d%87/
URL:https://www.anno1555.com/cs/blog/events/%f0%9f%8c%84-entschleunigung-mit-yoga-morgenlicht-%f0%9f%a7%98%e2%99%80%ef%b8%8f%f0%9f%8d%87/
END:VEVENT
END:VCALENDAR