BEGIN:VCALENDAR
VERSION:2.0
PRODID:-//eventon.com NONSGML v1.0//EN
CALSCALE:GREGORIAN
METHOD:PUBLISH
BEGIN:VEVENT
UID:69e9fc007c823
DTSTAMP:20260423T130120
DTSTART:20260613T150000Z
DTEND:20260616T133000Z
TZID:Europe/Vienna
LOCATION:
SUMMARY:[:de]Entschleunigungs-Retreat mit Yoga Elementen im Weinviertel 2026 – Gelassenheit trifft Genuss 🧘‍♀️🍷[:en]Yoga Retreat in the Weinviertel 2026 – Balance meets indulgence 🧘‍♀️🍷[:cs]Jógové retreaty ve Weinviertelu 2026 – Klid a požitek v harmonii 🧘‍♀️🍷[:]
DESCRIPTION:📍 Poysdorf\,  Weingenuss.Chalet\,  Hotel Neustifter &amp; Kellergstetten 📅 Dates 2026: • 13 – 16 June 2026 • 4 – 7 July 2026 • 29 August – 1 September 2026 &nbsp; Namasté &amp; Cheers! Craving deep relaxation with a hint of apricot aroma and a glass of wine in hand? Then[..]\nhttps://www.anno1555.com/en/blog/events/yoga-retreats-im-weinviertel-2026-gelassenheit-trifft-genuss-%f0%9f%a7%98%e2%99%80%ef%b8%8f%f0%9f%8d%b7/
URL:https://www.anno1555.com/en/blog/events/yoga-retreats-im-weinviertel-2026-gelassenheit-trifft-genuss-%f0%9f%a7%98%e2%99%80%ef%b8%8f%f0%9f%8d%b7/
END:VEVENT
END:VCALENDAR