BEGIN:VCALENDAR
VERSION:2.0
PRODID:-//eventon.com NONSGML v1.0//EN
CALSCALE:GREGORIAN
METHOD:PUBLISH
BEGIN:VEVENT
UID:69e9fbfbab85e
DTSTAMP:20260423T130115
DTSTART:20260621T110000Z
DTEND:20260622T015900Z
TZID:Europe/Vienna
LOCATION:
SUMMARY:[:de]Weinviertler Kirtag: Wein trifft Marille 🍷🍑[:en]Weinviertler Fair: Wine Meets Apricot 🍷🍑[:cs]Weinviertelský jarmark: Víno se setkává s meruňkami 🍷🍑[:]
DESCRIPTION:📍 Kellergstetten Poysdorf 📅 Sunday\,  June 21\,  2026 ⏰ Start: 11:00 AM Tradition meets indulgence – join us at the Weinviertler Kirtag\,  where wine and apricots take center stage! In the charming Kellergstetten\,  you’ll find Poysdorf’s finest wines\,  regional delicacies\,  and sweet apricot treats. 🎶 Entertainment highlights: • Musikverein Poysdorf[..]\nhttps://www.anno1555.com/en/blog/events/weinviertler-kirtag-wein-trifft-marille-%f0%9f%8d%b7%f0%9f%8d%91-2/
URL:https://www.anno1555.com/en/blog/events/weinviertler-kirtag-wein-trifft-marille-%f0%9f%8d%b7%f0%9f%8d%91-2/
END:VEVENT
END:VCALENDAR