BEGIN:VCALENDAR
VERSION:2.0
PRODID:-//eventon.com NONSGML v1.0//EN
CALSCALE:GREGORIAN
METHOD:PUBLISH
BEGIN:VEVENT
UID:69e9fbfd83d65
DTSTAMP:20260423T130117
DTSTART:20260627T190000Z
DTEND:20260628T015900Z
TZID:Europe/Vienna
LOCATION:
SUMMARY:Wine & Sound – Cocktails & More 🎧🍹
DESCRIPTION:📍 Weingut Hauser\,  Brunngasse 38\,  Poysdorf 📅 Saturday\,  June 27\,  2026 ⏰ Start: 7:00 PM Chill into the weekend with us and the best beats for a perfect summer evening! 🌙🎶 🍷 Refreshing drinks: • Cool Cocktails • Hauserwein • Poy-Secco • Jus(t) – our Verjus Spritzer 🎧 Good vibes[..]\nhttps://www.anno1555.com/en/blog/events/wine-sound-dj-ricardo-cocktails-%f0%9f%8e%a7%f0%9f%8d%b9-2/
URL:https://www.anno1555.com/en/blog/events/wine-sound-dj-ricardo-cocktails-%f0%9f%8e%a7%f0%9f%8d%b9-2/
END:VEVENT
END:VCALENDAR