BEGIN:VCALENDAR
VERSION:2.0
PRODID:-//eventon.com NONSGML v1.0//EN
CALSCALE:GREGORIAN
METHOD:PUBLISH
BEGIN:VEVENT
UID:69e9fc0039837
DTSTAMP:20260423T130120
DTSTART:20260724T190000Z
DTEND:20260725T015900Z
TZID:Europe/Vienna
LOCATION:
SUMMARY:Bubbles\,  Beats & Bites 🍾🎶🍴
DESCRIPTION:📍 Museumsgelände Poysdorf (Bad weather: Reichensteinhof) 📅 Friday\,  July 24\,  2026 ⏰ Start: 7:00 PM An evening full of sparkling moments – the ladies of Poysdorf’s wineries invite you to the ultimate sparkling event! 🎉 An event by women for women\,  with men warmly welcome to join. Look forward to:[..]\nhttps://www.anno1555.com/en/blog/events/bubbles-beats-bites-%f0%9f%8d%be%f0%9f%8e%b6%f0%9f%8d%b4-2/
URL:https://www.anno1555.com/en/blog/events/bubbles-beats-bites-%f0%9f%8d%be%f0%9f%8e%b6%f0%9f%8d%b4-2/
END:VEVENT
END:VCALENDAR