BEGIN:VCALENDAR
VERSION:2.0
PRODID:-//eventon.com NONSGML v1.0//EN
CALSCALE:GREGORIAN
METHOD:PUBLISH
BEGIN:VEVENT
UID:69e9fbfd37034
DTSTAMP:20260423T130117
DTSTART:20261010T140000Z
DTEND:20261011T015900Z
TZID:Europe/Vienna
LOCATION:
SUMMARY:Sturmfest Poysdorf 🍂🍷
DESCRIPTION:📍 Poysdorf Kellergstetten 📅 Saturday\,  October 10\,  2026 ⏰ Start: 2:00 PM Autumn is here – and we’re celebrating it at the Sturmfest in the Kellergstetten! 🍇 Starting at 2:00 PM\,  you’ll be treated to Sturm (young wine)\,  regional wines\,  and traditional Weinviertel delicacies. Enjoy the cozy autumn atmosphere in[..]\nhttps://www.anno1555.com/en/blog/events/sturmfest-poysdorf-%f0%9f%8d%82%f0%9f%8d%b7-2/
URL:https://www.anno1555.com/en/blog/events/sturmfest-poysdorf-%f0%9f%8d%82%f0%9f%8d%b7-2/
END:VEVENT
END:VCALENDAR