BEGIN:VCALENDAR
VERSION:2.0
PRODID:-//eventon.com NONSGML v1.0//EN
CALSCALE:GREGORIAN
METHOD:PUBLISH
BEGIN:VEVENT
UID:69ea0e0d11e1b
DTSTAMP:20260423T141821
DTSTART:20260830T080000Z
DTEND:20260830T103000Z
TZID:UTC
LOCATION:
SUMMARY:[:de]🌅 Entschleunigung mit Yoga & Wanderung 🍃[:en]🇬🇧 Slow Down: Yoga & Mindfulness in Nature 🌅🍃[:cs]🇨🇿 Zpomal: jóga & všímavost v přírodě 🌅🍃[:]
DESCRIPTION:📍 Start: Hotel Neustifter\,  Poysdorf 📅 Dates 2026: • Sunday\,  14 June 2026 • Sunday\,  30 August 2026 ⏰ Start: 8:00 AM Begin your Sunday calmly and mindfully: this special morning combines a gentle hike\,  yoga in nature\,  and a relaxing breakfast surrounded by the beautiful landscape of the Weinviertel.[..]\nhttps://www.anno1555.com/en/blog/events/%f0%9f%8c%85-entschleunigung-mit-yoga-achtsamkeit-%f0%9f%8d%83-2/
URL:https://www.anno1555.com/en/blog/events/%f0%9f%8c%85-entschleunigung-mit-yoga-achtsamkeit-%f0%9f%8d%83-2/
END:VEVENT
END:VCALENDAR