BEGIN:VCALENDAR
VERSION:2.0
PRODID:-//eventon.com NONSGML v1.0//EN
CALSCALE:GREGORIAN
METHOD:PUBLISH
BEGIN:VEVENT
UID:69e9fbfdc0cb8
DTSTAMP:20260423T130117
DTSTART:20260831T053000Z
DTEND:20260831T084500Z
TZID:UTC
LOCATION:
SUMMARY:[:de]🌄 Entschleunigung mit Yoga & Morgenlicht 🧘‍♀️🍇[:en]🇬🇧 Slow Down with Yoga & Morning Light 🌄🧘‍♀️🍇[:cs]🇨🇿 Zpomal s jógou a ranním světlem 🌄🧘‍♀️🍇[:]
DESCRIPTION:📍 Start: Hotel Neustifter\,  Poysdorf 📅 Dates 2026: • Monday\,  15 June 2026 • Monday\,  31 August 2026 ⏰ Start at sunrise • 15 June 2026 – approx. 4:15 – 7:30 AM (sunrise 4:50 AM) • 31 August 2026 – approx. 5:30 – 8:45 AM (sunrise 6:09 AM) Experience the[..]\nhttps://www.anno1555.com/en/blog/events/%f0%9f%8c%84-entschleunigung-mit-yoga-morgenlicht-%f0%9f%a7%98%e2%99%80%ef%b8%8f%f0%9f%8d%87-2/
URL:https://www.anno1555.com/en/blog/events/%f0%9f%8c%84-entschleunigung-mit-yoga-morgenlicht-%f0%9f%a7%98%e2%99%80%ef%b8%8f%f0%9f%8d%87-2/
END:VEVENT
END:VCALENDAR