BEGIN:VCALENDAR
VERSION:2.0
PRODID:-//eventon.com NONSGML v1.0//EN
CALSCALE:GREGORIAN
METHOD:PUBLISH
BEGIN:VEVENT
UID:69ea28e35d2a3
DTSTAMP:20260423T161251
DTSTART:20260713T160000Z
DTEND:20260720T010000Z
TZID:Europe/Vienna
LOCATION:
SUMMARY:[:de]Offener Keller – Weingut Hauser 🍷🚪[:en]Open Cellar – Weingut Hauser 🍷🚪[:cs]Otevřený sklep – Weingut Hauser 🍷🚪[:]
DESCRIPTION:📍 Weingut Hauser\,  Brunngasse 38\,  Poysdorf 📅 13. bis 19. Juli 2026 ⏰ Täglich ab 16:00 Uhr Eine ganze Woche voller Wein\,  Genuss und guter Stimmung! 😍 Beim Offenen Keller laden wir dich herzlich ein\,  unser Weingut zu entdecken und dich durch unser Sortiment zu kosten – von stillen Weinen[..]\nhttps://www.anno1555.com/blog/events/offener-keller-weingut-hauser-%f0%9f%8d%b7%f0%9f%9a%aa-2/
URL:https://www.anno1555.com/blog/events/offener-keller-weingut-hauser-%f0%9f%8d%b7%f0%9f%9a%aa-2/
END:VEVENT
END:VCALENDAR