BEGIN:VCALENDAR
VERSION:2.0
PRODID:-//eventon.com NONSGML v1.0//EN
CALSCALE:GREGORIAN
METHOD:PUBLISH
BEGIN:VEVENT
UID:69ea2d663f011
DTSTAMP:20260423T163206
DTSTART:20260910T180000Z
DTEND:20260914T010000Z
TZID:Europe/Vienna
LOCATION:
SUMMARY:67. Winzerfest Poysdorf 🍇🎉
DESCRIPTION:📍 Poysdorf Kellergstetten 📅 Donnerstag\,  10. September 2026 – Sonntag\,  13. September 2026 ⏰ Donnerstag ab 18:00 Uhr bis Sonntag 23:00 Uhr Aufgsperrt is! Endlich wieder Winzerfest in Poysdorf! 🎊 Vier Tage lang verwandelt sich Poysdorf in eine große Bühne für Wein\,  Kulinarik und Unterhaltung. Gemeinsam feiern wir den Beginn[..]\nhttps://www.anno1555.com/blog/events/67-winzerfest-poysdorf-%f0%9f%8d%87%f0%9f%8e%89/
URL:https://www.anno1555.com/blog/events/67-winzerfest-poysdorf-%f0%9f%8d%87%f0%9f%8e%89/
END:VEVENT
END:VCALENDAR