BEGIN:VCALENDAR
VERSION:2.0
PRODID:-//eventon.com NONSGML v1.0//EN
CALSCALE:GREGORIAN
METHOD:PUBLISH
BEGIN:VEVENT
UID:69ea2363a0f39
DTSTAMP:20260423T154923
DTSTART:20261113T170000Z
DTEND:20261115T120000Z
TZID:UTC
LOCATION:
SUMMARY:[:de]🍷 Winzertour Poysdorf – Jahrgang verkosten & Lieblingsweine entdecken 🍇[:en]🇬🇧 Winemaker Tour Poysdorf – Taste the New Vintage & Discover Your Favorite Wines 🍷🍇[:cs]🇨🇿 Vinařská tour Poysdorf – ochutnávka nového ročníku a oblíbených vín 🍷🍇[:]
DESCRIPTION:📍2170 Poysdorf\,  Brunngasse 38 📅 Freitag\,  13. November 2026 ⏰ 17:00 – 22:00 Uhr 📅 Samstag\,  14. November 2026 ⏰ 13:00 – 20:00 Uhr 📅 Sonntag\,  15. November 2026 ⏰ 9:00 – 12:00 Uhr Einkaufsmöglichkeit Bei der Winzertour Poysdorf öffnen mehr als 15 Winzer ihre Türen und laden zur Verkostung[..]\nhttps://www.anno1555.com/blog/events/%f0%9f%8d%b7-winzertour-poysdorf-jahrgang-verkosten-lieblingsweine-entdecken-%f0%9f%8d%87/
URL:https://www.anno1555.com/blog/events/%f0%9f%8d%b7-winzertour-poysdorf-jahrgang-verkosten-lieblingsweine-entdecken-%f0%9f%8d%87/
END:VEVENT
END:VCALENDAR