BEGIN:VCALENDAR
VERSION:2.0
PRODID:-//eventon.com NONSGML v1.0//EN
CALSCALE:GREGORIAN
METHOD:PUBLISH
BEGIN:VEVENT
UID:69ea3869543ca
DTSTAMP:20260423T171905
DTSTART:20260829T150000Z
DTEND:20260829T190000Z
TZID:UTC
LOCATION:
SUMMARY:[:de]🧘‍♀️ Entschleunigung mit Yoga & Kellergasse 🍇[:en]🇬🇧 Slow Down: Yoga & Cellar Lane Experience 🧘‍♀️🍇[:cs]🇨🇿 Zpomal a nadechni se: jóga & sklepní ulička 🧘‍♀️🍇[:]
DESCRIPTION:📍 Start: Hotel Neustifter\,  Poysdorf 📅 Termine 2026: • Samstag\,  13. Juni 2026 • Samstag\,  29. August 2026 ⏰ 15:00 – 19:00 Uhr Ankommen\,  durchatmen und bewusst entschleunigen: Dieser besondere Nachmittag verbindet Yoga in der Natur mit einer genussvollen Kellergassenwanderung. Gemeinsam starten wir mit einer 90-minütigen Yoga-Einheit\,  um Körper und[..]\nhttps://www.anno1555.com/blog/events/%f0%9f%a7%98%e2%99%80%ef%b8%8f-entschleunigung-mit-yoga-kellergasse-%f0%9f%8d%87-2/
URL:https://www.anno1555.com/blog/events/%f0%9f%a7%98%e2%99%80%ef%b8%8f-entschleunigung-mit-yoga-kellergasse-%f0%9f%8d%87-2/
END:VEVENT
END:VCALENDAR