BEGIN:VCALENDAR
VERSION:2.0
PRODID:-//eventon.com NONSGML v1.0//EN
CALSCALE:GREGORIAN
METHOD:PUBLISH
BEGIN:VEVENT
UID:69ea38679a587
DTSTAMP:20260423T171903
DTSTART:20260614T080000Z
DTEND:20260614T103000Z
TZID:UTC
LOCATION:
SUMMARY:[:de]🌅 Entschleunigung mit Yoga & Achtsamkeit 🍃[:en]🇬🇧 Slow Down: Yoga & Mindfulness in Nature 🌅🍃[:cs]🇨🇿 Zpomal: jóga & všímavost v přírodě 🌅🍃[:]
DESCRIPTION:📍 Start: Hotel Neustifter\,  Poysdorf 📅 Termine 2026: • Sonntag\,  14. Juni 2026 • Sonntag\,  30. August 2026 ⏰ Start: 8:00 Uhr Sanft in den Tag starten\,  die Natur spüren und bewusst entschleunigen: Dieser besondere Sonntagvormittag verbindet Wanderung\,  Yoga und Frühstück inmitten der Weinviertler Landschaft. Gemeinsam geht es um 8:00[..]\nhttps://www.anno1555.com/blog/events/%f0%9f%8c%85-entschleunigung-mit-yoga-achtsamkeit-%f0%9f%8d%83/
URL:https://www.anno1555.com/blog/events/%f0%9f%8c%85-entschleunigung-mit-yoga-achtsamkeit-%f0%9f%8d%83/
END:VEVENT
END:VCALENDAR